

BEGIN:VCALENDAR
VERSION:2.0
PRODID:-//NPCR - ECPv6.15.17//NONSGML v1.0//EN
CALSCALE:GREGORIAN
METHOD:PUBLISH
X-WR-CALNAME:NPCR
X-ORIGINAL-URL:https://npcr.se
X-WR-CALDESC:Händelser för NPCR
REFRESH-INTERVAL;VALUE=DURATION:PT1H
X-Robots-Tag:noindex
X-PUBLISHED-TTL:PT1H
BEGIN:VTIMEZONE
TZID:Europe/Stockholm
BEGIN:DAYLIGHT
TZOFFSETFROM:+0100
TZOFFSETTO:+0200
TZNAME:CEST
DTSTART:20250330T010000
END:DAYLIGHT
BEGIN:STANDARD
TZOFFSETFROM:+0200
TZOFFSETTO:+0100
TZNAME:CET
DTSTART:20251026T010000
END:STANDARD
BEGIN:DAYLIGHT
TZOFFSETFROM:+0100
TZOFFSETTO:+0200
TZNAME:CEST
DTSTART:20260329T010000
END:DAYLIGHT
BEGIN:STANDARD
TZOFFSETFROM:+0200
TZOFFSETTO:+0100
TZNAME:CET
DTSTART:20261025T010000
END:STANDARD
BEGIN:DAYLIGHT
TZOFFSETFROM:+0100
TZOFFSETTO:+0200
TZNAME:CEST
DTSTART:20270328T010000
END:DAYLIGHT
BEGIN:STANDARD
TZOFFSETFROM:+0200
TZOFFSETTO:+0100
TZNAME:CET
DTSTART:20271031T010000
END:STANDARD
BEGIN:DAYLIGHT
TZOFFSETFROM:+0100
TZOFFSETTO:+0200
TZNAME:CEST
DTSTART:20280326T010000
END:DAYLIGHT
BEGIN:STANDARD
TZOFFSETFROM:+0200
TZOFFSETTO:+0100
TZNAME:CET
DTSTART:20281029T010000
END:STANDARD
END:VTIMEZONE
BEGIN:VEVENT
DTSTART;VALUE=DATE:20260420
DTEND;VALUE=DATE:20260422
DTSTAMP:20260419T143343
CREATED:20250304T134914Z
LAST-MODIFIED:20251015T092232Z
UID:5894-1776643200-1776815999@npcr.se
SUMMARY:20-21 april\, 2026. Gemensamt inrapportörsmöte för urologi och onkologi
DESCRIPTION:20–21 april\, 2026\nGemensamt inrapportörsmöte för urologi och onkologi\n\nTid: Start kl. 16.00 den 20 april och avslut kl. 15.00 den 21 april\nPlats: Hotell Gillet\, Dragarbrunnsgatan 23\, Uppsala\n\n \n\nTidigare datum: 4–5 maj 2026\nNytt datum: 20–21 april 2026\nPlats: Hotell Gillet\, Dragarbrunnsgatan 23\, Uppsala\n\nObservera:\nMötet för onkologi har flyttats och hålls nu gemensamt med urologimötet den 20–21 april 2026.\nSyftet med det gemensamma mötet är att skapa möjlighet till erfarenhetsutbyte och gemensamma diskussioner kring inrapportering mellan urologi och onkologi.
URL:https://npcr.se/event/inrapportorsmote-onkologi-5/
LOCATION:Hotell Gillet\, Uppsala\, Dragarbrunnsgatan 23\, Uppsala\, Sweden
END:VEVENT
BEGIN:VEVENT
DTSTART;TZID=Europe/Stockholm:20260917T130000
DTEND;TZID=Europe/Stockholm:20260917T170000
DTSTAMP:20260419T143343
CREATED:20260210T160147Z
LAST-MODIFIED:20260211T083736Z
UID:6463-1789650000-1789664400@npcr.se
SUMMARY:Styrgruppsmöte
DESCRIPTION:17 september 2026\nTid: 13.00 – 17.00\nHändelse: Styrgruppsmöte\nPlats: Digitalt via Teams\nKontakt: nina.hageman@medinina.se om du saknar länk till mötet
URL:https://npcr.se/event/styrgruppsmote/
LOCATION:Teamsmöte
END:VEVENT
BEGIN:VEVENT
DTSTART;VALUE=DATE:20270204
DTEND;VALUE=DATE:20270206
DTSTAMP:20260419T143343
CREATED:20260210T160239Z
LAST-MODIFIED:20260211T094956Z
UID:6465-1801699200-1801871999@npcr.se
SUMMARY:Styrgruppsmöte
DESCRIPTION:4–5 februari 2027\nHändelse: Styrgruppsmöte\nPlats: Stockholm\, exakt tid och plats meddelas senare
URL:https://npcr.se/event/styrgruppsmote-2/
END:VEVENT
END:VCALENDAR